BEGIN:VCALENDAR
VERSION:2.0
PRODID:-//Muscle Banda - ECPv6.15.20//NONSGML v1.0//EN
CALSCALE:GREGORIAN
METHOD:PUBLISH
X-WR-CALNAME:Muscle Banda
X-ORIGINAL-URL:https://www.muscle.martinlouda.com
X-WR-CALDESC:Akce na Muscle Banda
REFRESH-INTERVAL;VALUE=DURATION:PT1H
X-Robots-Tag:noindex
X-PUBLISHED-TTL:PT1H
BEGIN:VTIMEZONE
TZID:Europe/Prague
BEGIN:DAYLIGHT
TZOFFSETFROM:+0100
TZOFFSETTO:+0200
TZNAME:CEST
DTSTART:20250330T010000
END:DAYLIGHT
BEGIN:STANDARD
TZOFFSETFROM:+0200
TZOFFSETTO:+0100
TZNAME:CET
DTSTART:20251026T010000
END:STANDARD
BEGIN:DAYLIGHT
TZOFFSETFROM:+0100
TZOFFSETTO:+0200
TZNAME:CEST
DTSTART:20260329T010000
END:DAYLIGHT
BEGIN:STANDARD
TZOFFSETFROM:+0200
TZOFFSETTO:+0100
TZNAME:CET
DTSTART:20261025T010000
END:STANDARD
BEGIN:DAYLIGHT
TZOFFSETFROM:+0100
TZOFFSETTO:+0200
TZNAME:CEST
DTSTART:20270328T010000
END:DAYLIGHT
BEGIN:STANDARD
TZOFFSETFROM:+0200
TZOFFSETTO:+0100
TZNAME:CET
DTSTART:20271031T010000
END:STANDARD
END:VTIMEZONE
BEGIN:VEVENT
DTSTART;TZID=Europe/Prague:20260425T090000
DTEND;TZID=Europe/Prague:20260425T200000
DTSTAMP:20260421T053114
CREATED:20260418T091920Z
LAST-MODIFIED:20260418T091920Z
UID:980-1777107600-1777147200@www.muscle.martinlouda.com
SUMMARY:21. První jarní bublání
DESCRIPTION:Český klub majitelů amerických automobilů ve spolupráci\ns časopisem Chrom & Plameny vás zvou na první sraz US cars v roce 2026. \nVítány jsou ameriky všech ročníků a kategorií a také motocykly Harley-Davidson a Indian. \n21. ročník – Jizbice pod Blaníkem – 25. 4. 2026
URL:https://www.muscle.martinlouda.com/event/21-prvni-jarni-bublani/
LOCATION:Jizbice pod Blaníkem\, Čechtice 23\, Čechtice\, 257 65\, Czech Republic
ATTACH;FMTTYPE=image/jpeg:https://www.muscle.martinlouda.com/wp-content/uploads/2026/04/2026-jizbice-PLAKAT-2-848x1200-1.jpg
END:VEVENT
BEGIN:VEVENT
DTSTART;TZID=Europe/Prague:20260412T120000
DTEND;TZID=Europe/Prague:20260412T190000
DTSTAMP:20260421T053114
CREATED:20260221T165123Z
LAST-MODIFIED:20260222T084323Z
UID:560-1775995200-1776020400@www.muscle.martinlouda.com
SUMMARY:Záhájení sezony s Muscle bandou
DESCRIPTION:
URL:https://www.muscle.martinlouda.com/event/zahajeni-sezony-s-muscle-bandou/
LOCATION:D10 – Letadlo\, Mladá Boleslav
CATEGORIES:Akce v ČR
END:VEVENT
END:VCALENDAR