BEGIN:VCALENDAR
VERSION:2.0
PRODID:-//Muscle Banda - ECPv6.15.20//NONSGML v1.0//EN
CALSCALE:GREGORIAN
METHOD:PUBLISH
X-WR-CALNAME:Muscle Banda
X-ORIGINAL-URL:https://www.muscle.martinlouda.com
X-WR-CALDESC:Akce na Muscle Banda
REFRESH-INTERVAL;VALUE=DURATION:PT1H
X-Robots-Tag:noindex
X-PUBLISHED-TTL:PT1H
BEGIN:VTIMEZONE
TZID:Europe/Prague
BEGIN:DAYLIGHT
TZOFFSETFROM:+0100
TZOFFSETTO:+0200
TZNAME:CEST
DTSTART:20250330T010000
END:DAYLIGHT
BEGIN:STANDARD
TZOFFSETFROM:+0200
TZOFFSETTO:+0100
TZNAME:CET
DTSTART:20251026T010000
END:STANDARD
BEGIN:DAYLIGHT
TZOFFSETFROM:+0100
TZOFFSETTO:+0200
TZNAME:CEST
DTSTART:20260329T010000
END:DAYLIGHT
BEGIN:STANDARD
TZOFFSETFROM:+0200
TZOFFSETTO:+0100
TZNAME:CET
DTSTART:20261025T010000
END:STANDARD
BEGIN:DAYLIGHT
TZOFFSETFROM:+0100
TZOFFSETTO:+0200
TZNAME:CEST
DTSTART:20270328T010000
END:DAYLIGHT
BEGIN:STANDARD
TZOFFSETFROM:+0200
TZOFFSETTO:+0100
TZNAME:CET
DTSTART:20271031T010000
END:STANDARD
END:VTIMEZONE
BEGIN:VEVENT
DTSTART;TZID=Europe/Prague:20260515T100000
DTEND;TZID=Europe/Prague:20260517T190000
DTSTAMP:20260421T043618
CREATED:20260222T084247Z
LAST-MODIFIED:20260222T084247Z
UID:591-1778839200-1779044400@www.muscle.martinlouda.com
SUMMARY:5. AMERIKY MEZI SKLEPY 2025
DESCRIPTION:
URL:https://www.muscle.martinlouda.com/event/5-ameriky-mezi-sklepy-2025/
LOCATION:Mutěnice\, Amfiteátr Pod Bůdama\, Mutějice\, Czech Republic
CATEGORIES:Akce v ČR
ATTACH;FMTTYPE=image/jpeg:https://www.muscle.martinlouda.com/wp-content/uploads/2026/02/513506160_1278347257632538_162302095552550903_n.jpg
END:VEVENT
BEGIN:VEVENT
DTSTART;TZID=Europe/Prague:20260523T100000
DTEND;TZID=Europe/Prague:20260523T160000
DTSTAMP:20260421T043618
CREATED:20260415T193308Z
LAST-MODIFIED:20260415T193308Z
UID:884-1779530400-1779552000@www.muscle.martinlouda.com
SUMMARY:Ameriky v Zichovci
DESCRIPTION:Spolupráce klubu Muscle Banda a rodinného pivovaru Zichovec nám přináší 2. ročník srazu amerických aut a motorek v příjemném prostředí pivovarské restaurace Zichovec\, který se koná ve stejnojmenné obci. Těšit se můžete na spoustu dobrého jídla a pití\, amerických aut a motorek\, živou hudbu\, doprovodný program\, spanilou jízdu a pro velké milovníky piva nejen limitovaná edice piv pro tuto událost\, ale i možnost ubytování v penzionu\, který sousedí s restaurací\, ať si můžete den a večer patřičně užít. O živou hudbu se postará místní kapela NĚKDY DOBRÝ. Společně s našimi partnery akce vybereme a vyhlásíme TOP AMERIKY SRAZU\, které obdrží věcné ceny. Akci moderuje Kuba Nágl. Foto a video výstup z akce bude zveřejněn pár dnů po akci. Pro veškeré informace sledujte příspěvky v této události.\nPROGRAM:10:00 Zpřístupnění areálu11:00 Zahájení akce13:00 Vyhlášení TOP Amerik srazuxx:xx Živá hudba NĚKDY DOBRÝ14:00 Spanilá jízda15:00 Příjezd ze spanilé jízdy16:00 Ukončení akceZbytek programu zveřejníme\nSPANILÁ JÍZDA: https://www.google.com/…/data=!4m17!4m16!1m5!3m4!1m2…\nCENÍK:Vstupné je pro každého ZDARMA.Parkové Ameriky 200Kč/auto.\nPARTNEŘI AKCE: Amsoil\, Pivovar Zichovec\, Indian\, Auto Eder\, Crystal Cruisers\, U.S. Care\nZbytek informací zveřejníme brzy.\nTěšíme se na vás.
URL:https://www.muscle.martinlouda.com/event/ameriky-v-zichovci/
LOCATION:Zichovec\, Zichovec 99\, Zichovec\, 273 74
CATEGORIES:Akce v ČR
ATTACH;FMTTYPE=image/jpeg:https://www.muscle.martinlouda.com/wp-content/uploads/2026/04/589318036_1491337519659126_403158440640764340_n.jpg
END:VEVENT
BEGIN:VEVENT
DTSTART;TZID=Europe/Prague:20260611T100000
DTEND;TZID=Europe/Prague:20260614T190000
DTSTAMP:20260421T043618
CREATED:20260221T172211Z
LAST-MODIFIED:20260222T084323Z
UID:583-1781172000-1781463600@www.muscle.martinlouda.com
SUMMARY:Lucky cruisers weekend 2026
DESCRIPTION:Lucky Cruisers Weekend\nje největší sraz amerik v České republice.\nTěšíme se na Vás 11. – 14. června 2026 při jeho\n17. ročníku v autokempu Merkur v Pasohlávkách!
URL:https://www.muscle.martinlouda.com/event/lucky-cruisers-weekend-2026/
LOCATION:Pasohlávky\, Pasohlávky\, Czech Republic
CATEGORIES:Akce v ČR
ATTACH;FMTTYPE=image/jpeg:https://www.muscle.martinlouda.com/wp-content/uploads/2026/02/510977202_1165780065353476_7635113475284515320_n.jpg
END:VEVENT
BEGIN:VEVENT
DTSTART;TZID=Europe/Prague:20260711T083000
DTEND;TZID=Europe/Prague:20260711T170000
DTSTAMP:20260421T043618
CREATED:20260418T213001Z
LAST-MODIFIED:20260418T213001Z
UID:1085-1783758600-1783789200@www.muscle.martinlouda.com
SUMMARY:AMSOIL AMERICAN TRACKDAY 2026
DESCRIPTION:Zveme vás na 5. ročník jednodenního unikátního srazu Amerických aut a motorek AMSOIL AMERICAN TRACKDAY\, který se koná v sobotu 11.7.2026 na Autodromu v Sosnové. Akcí vás i letos provede v pozici moderátora Kuba Nágl a těšit se můžete nejen na sraz Amerických aut a motorek s doprovodným programem pro každého\, ale také na jízdy na asfaltové a terénní trati\, spanilou jízdu\, rev battle\, občerstvení\, soutěže\, a stánky s tematickým zbožím a technikou. Svézt se budete moci jak ve svých Amerikách\, tak i v rámci zážitkových jízd. Své unikátní motorky nám dovezou ukázat Indian Praha a Polaris Karlovy Vary nám předvedou jejich čtyřkolky a buggyny. Spanilé jízdy se mohou zúčastnit nejen auta\, ale také motorky. Na místě bude také možnost zakoupení našeho merchandise\, včetně všech novinek\, sběratelských karet Legends a limitované edice triček pro Sosnovou 26. Pro návštěvníky máme v omezeném množství připravené srazové sběratelské karty\, které budeme rozdávat automaticky a ZDARMA ke každému vstupnému.\nDo areálu se dostanete zadní branou VJEZD D.\nPROGRAM AKCE:\nzveřejníme\nPROGRAM JÍZD:\nzveřejníme\nSOUTĚŽE:\nRev Battle\nVědomostní soutěže\nKATEGORIE:\nTOP 3 moderní Ameriky\nTOP 3 Ameriky starší 30 let\nTOP 3 terénní\, suv a pickup Ameriky\nTOP 3 motorky\nINFORMACE PRO NÁVŠTĚVNÍKY:\nKapacita akce není nijak omezena. Přijet na sraz můžete v jakémkoliv autě\, pro auta návštěvníků budeme mít připravené oddělené parkoviště ZDARMA. Vstupenky je možné zakoupit výhradně na místě v hotovosti. Pokud budete potřebovat během akce odjet\, můžete se kdykoliv vrátit. Vstup se zvířaty a používání dálkově ovládaných dronů a jiných vzdušných zařízení je v celém areálu ZAKÁZÁNO. Zapůjčení Amerických aut je možné na místě bez rezervace\, tu ale doporučujeme si přímo u půjčovny THE LINE CLUB předem domluvit\, abyste se svezli bez čekání. Vstup na akci je na vlastní nebezpečí.\nINFORMACE PRO ÚČASTNÍKY JÍZD NA OKRUHU/V TERÉNU:\nKaždý řidič i spolujezdec vjíždí na trať na vlastní nebezpečí a veškeré způsobené škody si hradí sami. Jízdy není možné rezervovat předem. Helma je jak pro řidiče\, tak i pro spolujezdce dobrovolná\, avšak silně doporučujeme ji mít v rámci bezpečnosti posádky. Oblečení zvolte dle svého uvážení. Řidič\, ani spolujezdec nesmí být pod vlivem alkoholu a omamných látek. Po celý den platí na obou tratích omezený počet aut najednou. Řidiči Amerik budou na asfaltovém okruhu rozděleni do 2 rychlostních skupin (A/B/P/O)\, nejen kvůli bezpečnosti\, ale také\, aby si to každý patřičně užil. Rozdělení do skupin probereme s každým řidičem individuálně podle jeho řidičských zkušeností\, výkonu auta a jeho osobního výběru skupiny. Základní vybavení pro přezutí aut bude k zapůjčení na místě.\nSkupina A: Výkonná a sportovní auta\, zkušení řidiči.\nSkupina B: Méně výkonné vozy\, méně zkušení řidiči.\nSkupina P: Veřejnost může využít večerních veřejných jízd\, které jsou nejen pro Americká auta\, ale i pro jakákoliv jiná.\nSkupina O: Terénní auta – jízdy v offroadu.\nINFORMACE PRO FOTOGRAFY:\nFotit na sraz může přijít kdokoliv bez registrace. Pokud budete chtít přístup i přímo na závodní dráhu\, budete potřebovat vlastní reflexní vestu a fotografickou registraci\, kterou dostanete a vyplníte při vstupu na akci. Používání dálkově ovládaných dronů je pro neregistrované piloty v celém areálu přísně zakázáno!\nUBYTOVÁNÍ:\nPodrobné informace a rezervační systém najdete na odkazu níže.\nhttps://www.autodrom.cz/ubytovani/index.php\nCENÍK AKCE:\nVstupné (osoby starší 15 let): 300Kč\nVstupné děti (mladší 15 let) a ZTP: ZDARMA\nParkovné Americké auto: ZDARMA\nParkovné návštěvníci: ZDARMA\nJízdy skupina A/B (9:00-17:00): 1200Kč\nVečerní veřejné jízdy skupian P (17:00-18:00): 600Kč\nJízdy offroad skupina O (10:00-16:00): 500Kč\nZážitkové jízdy: doplníme\nPlatit je možné pouze v hotovosti.\nNezapomeňte si zakliknout zájem o akci\, ať vám žádná novinka neunikne. Pro tento ročník pro Vás připravujeme spoustu novinek a vylepšení\, tak se máte rozhodně na co těšit! Také sdílejte naši akci i svým přátelům\, ať se nás sejde co nejvíc!\nVeškeré informace doplníme.\nTĚŠÍME SE NA VÁS!🇺🇸
URL:https://www.muscle.martinlouda.com/event/amsoil-american-trackday-2026/
LOCATION:Sosonová\, Česká Lípa 200\, Česká Lípa\, 47001\, Czech Republic
CATEGORIES:Akce v ČR
ATTACH;FMTTYPE=image/jpeg:https://www.muscle.martinlouda.com/wp-content/uploads/2026/04/624467623_1548500207276190_4785001841071771913_n.jpg
END:VEVENT
BEGIN:VEVENT
DTSTART;TZID=Europe/Prague:20260725T100000
DTEND;TZID=Europe/Prague:20260726T190000
DTSTAMP:20260421T043618
CREATED:20260221T172459Z
LAST-MODIFIED:20260222T084323Z
UID:587-1784973600-1785092400@www.muscle.martinlouda.com
SUMMARY:Howling – American car and bikes
DESCRIPTION:
URL:https://www.muscle.martinlouda.com/event/howling-american-car-and-bikes/
LOCATION:Proboštská jezera\, U Jezera 1331\, Brandýs nad Labem-Stará Boleslav-Dřísy\, 25002\, Czech Republic
CATEGORIES:Akce v ČR
ATTACH;FMTTYPE=image/jpeg:https://www.muscle.martinlouda.com/wp-content/uploads/2026/02/326768750_1869064560121486_5177264769740446181_n.jpg
END:VEVENT
END:VCALENDAR