BEGIN:VCALENDAR
VERSION:2.0
PRODID:-//Muscle Banda - ECPv6.15.20//NONSGML v1.0//EN
CALSCALE:GREGORIAN
METHOD:PUBLISH
X-ORIGINAL-URL:https://www.muscle.martinlouda.com
X-WR-CALDESC:Akce na Muscle Banda
REFRESH-INTERVAL;VALUE=DURATION:PT1H
X-Robots-Tag:noindex
X-PUBLISHED-TTL:PT1H
BEGIN:VTIMEZONE
TZID:Europe/Prague
BEGIN:DAYLIGHT
TZOFFSETFROM:+0100
TZOFFSETTO:+0200
TZNAME:CEST
DTSTART:20250330T010000
END:DAYLIGHT
BEGIN:STANDARD
TZOFFSETFROM:+0200
TZOFFSETTO:+0100
TZNAME:CET
DTSTART:20251026T010000
END:STANDARD
BEGIN:DAYLIGHT
TZOFFSETFROM:+0100
TZOFFSETTO:+0200
TZNAME:CEST
DTSTART:20260329T010000
END:DAYLIGHT
BEGIN:STANDARD
TZOFFSETFROM:+0200
TZOFFSETTO:+0100
TZNAME:CET
DTSTART:20261025T010000
END:STANDARD
BEGIN:DAYLIGHT
TZOFFSETFROM:+0100
TZOFFSETTO:+0200
TZNAME:CEST
DTSTART:20270328T010000
END:DAYLIGHT
BEGIN:STANDARD
TZOFFSETFROM:+0200
TZOFFSETTO:+0100
TZNAME:CET
DTSTART:20271031T010000
END:STANDARD
END:VTIMEZONE
BEGIN:VEVENT
DTSTART;TZID=Europe/Prague:20260911T080000
DTEND;TZID=Europe/Prague:20260913T170000
DTSTAMP:20260421T051420
CREATED:20260317T131739Z
LAST-MODIFIED:20260317T131739Z
UID:670-1789113600-1789318800@www.muscle.martinlouda.com
SUMMARY:RAMKEMP 2026
DESCRIPTION:
URL:https://www.muscle.martinlouda.com/event/ramkemp-2026/
LOCATION:Šumava\, Olšina 338\, Polná na Šumavě-Horní Planá\, 382 29\, Czech Republic
ATTACH;FMTTYPE=image/avif:https://www.muscle.martinlouda.com/wp-content/uploads/2026/03/d40379_0c4a6db9a2d04fb2bb3482927feb0892mv2.jpg.avif
END:VEVENT
END:VCALENDAR