BEGIN:VCALENDAR
VERSION:2.0
PRODID:-//Muscle Banda - ECPv6.15.20//NONSGML v1.0//EN
CALSCALE:GREGORIAN
METHOD:PUBLISH
X-WR-CALNAME:Muscle Banda
X-ORIGINAL-URL:https://www.muscle.martinlouda.com
X-WR-CALDESC:Akce na Muscle Banda
REFRESH-INTERVAL;VALUE=DURATION:PT1H
X-Robots-Tag:noindex
X-PUBLISHED-TTL:PT1H
BEGIN:VTIMEZONE
TZID:Europe/Prague
BEGIN:DAYLIGHT
TZOFFSETFROM:+0100
TZOFFSETTO:+0200
TZNAME:CEST
DTSTART:20250330T010000
END:DAYLIGHT
BEGIN:STANDARD
TZOFFSETFROM:+0200
TZOFFSETTO:+0100
TZNAME:CET
DTSTART:20251026T010000
END:STANDARD
BEGIN:DAYLIGHT
TZOFFSETFROM:+0100
TZOFFSETTO:+0200
TZNAME:CEST
DTSTART:20260329T010000
END:DAYLIGHT
BEGIN:STANDARD
TZOFFSETFROM:+0200
TZOFFSETTO:+0100
TZNAME:CET
DTSTART:20261025T010000
END:STANDARD
BEGIN:DAYLIGHT
TZOFFSETFROM:+0100
TZOFFSETTO:+0200
TZNAME:CEST
DTSTART:20270328T010000
END:DAYLIGHT
BEGIN:STANDARD
TZOFFSETFROM:+0200
TZOFFSETTO:+0100
TZNAME:CET
DTSTART:20271031T010000
END:STANDARD
END:VTIMEZONE
BEGIN:VEVENT
DTSTART;TZID=Europe/Prague:20260606T080000
DTEND;TZID=Europe/Prague:20260607T170000
DTSTAMP:20260420T232922
CREATED:20260418T212232Z
LAST-MODIFIED:20260418T212258Z
UID:1081-1780732800-1780851600@www.muscle.martinlouda.com
SUMMARY:Family Day & USA Cars vol.2
DESCRIPTION:Milí majitelé a fanoušci amerických automobilů\,\npřipravte se na nezapomenutelný den plný rachotu motorů\, americké atmosféry a zábavy pro celou rodinu! Srdečně vás zveme na FAMILY DAY & USA CARS vol.2 2026\, událost\, která spojuje lásku k ikonickým vozům s bohatým programem pro všechny generace.\nPro majitele amerických aut všech značek:\nPřijeďte se pochlubit svým naleštěným krasavcem na Sraz amerických vozů! Ať už vlastníte legendární muscle car\, klasický pick-up\, nebo moderní SUV\, jste vítáni. Bude to skvělá příležitost potkat se s dalšími nadšenci\, sdílet zkušenosti a užít si společnou vášeň.\nCo vás čeká?\n* PROJÍŽĎKY PO TRATI\n* KONCERTY A SHOW\n* Moderátor dne Mika Ronos\n* ZÁBAVA PRO DĚTI I DOSPĚLÉ\n* OBČERSTVENÍ: Bohatá nabídka jídla a pití\, aby nikdo nepřišel zkrátka.\n* A SPOUSTA DALŠÍ ZÁBAVY!\nTato akce není jen o zábavě\, má i charitativní rozměr. Část výtěžku akce bude věnován na handicapované děti.\nPřijeďte si užít den plný amerických aut\, skvělé hudby a rodinné pohody v krásném prostředí Štikovské rokle. Těšíme se na vás!\nSledujte událost ať Vám neutečou žádné novinky!\nPROGRAM A KONKRÉTNÍ NOVINKY BUDEM POSTUPNĚ ZVEŘEJŇOVAT!!
URL:https://www.muscle.martinlouda.com/event/family-day-usa-cars-vol-2/
LOCATION:Nová Paka\, Štikov 122\, Nová Paka\, 50901\, Czech Republic
ATTACH;FMTTYPE=image/jpeg:https://www.muscle.martinlouda.com/wp-content/uploads/2026/04/647720233_122164336628743231_6417655001690010008_n.jpg
END:VEVENT
END:VCALENDAR